BEGIN:VCALENDAR
VERSION:2.0
PRODID:-//CMMOTA.com - ECPv6.14.0//NONSGML v1.0//EN
CALSCALE:GREGORIAN
METHOD:PUBLISH
X-WR-CALNAME:CMMOTA.com
X-ORIGINAL-URL:https://cmmota.com
X-WR-CALDESC:Events for CMMOTA.com
REFRESH-INTERVAL;VALUE=DURATION:PT1H
X-Robots-Tag:noindex
X-PUBLISHED-TTL:PT1H
BEGIN:VTIMEZONE
TZID:America/Edmonton
BEGIN:DAYLIGHT
TZOFFSETFROM:-0700
TZOFFSETTO:-0600
TZNAME:MDT
DTSTART:20240310T090000
END:DAYLIGHT
BEGIN:STANDARD
TZOFFSETFROM:-0600
TZOFFSETTO:-0700
TZNAME:MST
DTSTART:20241103T080000
END:STANDARD
END:VTIMEZONE
BEGIN:VEVENT
DTSTART;TZID=America/Edmonton:20241209T090000
DTEND;TZID=America/Edmonton:20241209T120000
DTSTAMP:20260419T111422
CREATED:20241010T164742Z
LAST-MODIFIED:20241010T165925Z
UID:10000014-1733734800-1733745600@cmmota.com
SUMMARY:Marketing for Wellness Practitioners
DESCRIPTION:WHEN: December 9\, 2024 from 9:00 am – 12:00 pm through Zoom. \nZoom link will be provided closer to the event. CMMOTA Members will earn 3 CEC’s for this course. \nCOURSE OPTION: \nCome join Dr Jesse Reynolds and learn about Marketing for Wellness Practitioners. This course will cover: \n\nUnderstanding Authenticity and Alignment\nUVP (Unique Value Proposition) \nIdeal Client Avatar\nWebsites\nDesign – physical space and digital space\nSEO\nGoogle Business\nSocial Media Marketing (Special Guest Speaker)\nConnecting to community to grow your business (Special Guest Speaker)\nSo much more!\n\nThere will be a short test at the end that must be completed in order to earn your certificate and CEC’s. Link will be provided in chat. \nRefund Policy: \nFull refund 45 days prior to the event (less fees).\n50% refund 30 days prior to the event.\nNo refund 14 days prior to the event.
URL:https://cmmota.com/event/marketing-for-wellness-practitioners/
LOCATION:Online
CATEGORIES:Health & Wellness
ATTACH;FMTTYPE=image/jpeg:https://cmmota.com/wp-content/uploads/2024/10/Marketing-for-Wellness-Practitioners-with-Dr-Jess.-Reynolds-1.jpg
ORGANIZER;CN="CMMOTA":MAILTO:info@cmmota.com
END:VEVENT
END:VCALENDAR