BEGIN:VCALENDAR
VERSION:2.0
PRODID:-//CMMOTA.com - ECPv6.14.0//NONSGML v1.0//EN
CALSCALE:GREGORIAN
METHOD:PUBLISH
X-WR-CALNAME:CMMOTA.com
X-ORIGINAL-URL:https://cmmota.com
X-WR-CALDESC:Events for CMMOTA.com
REFRESH-INTERVAL;VALUE=DURATION:PT1H
X-Robots-Tag:noindex
X-PUBLISHED-TTL:PT1H
BEGIN:VTIMEZONE
TZID:America/Edmonton
BEGIN:DAYLIGHT
TZOFFSETFROM:-0700
TZOFFSETTO:-0600
TZNAME:MDT
DTSTART:20240310T090000
END:DAYLIGHT
BEGIN:STANDARD
TZOFFSETFROM:-0600
TZOFFSETTO:-0700
TZNAME:MST
DTSTART:20241103T080000
END:STANDARD
END:VTIMEZONE
BEGIN:VEVENT
DTSTART;VALUE=DATE:20241026
DTEND;VALUE=DATE:20241027
DTSTAMP:20260419T163158
CREATED:20240913T164254Z
LAST-MODIFIED:20241017T162353Z
UID:10000011-1729900800-1729987199@cmmota.com
SUMMARY:Back and Spinal Anatomy and Pathology - October 26\, 2024
DESCRIPTION:WHEN: October 26\, 2024 9:00 am – 5pm University of Saskatoon \nWe are hosting a Back and Spinal Anatomy and Pathology Cadaver Lab taking place at the University of Saskatoon. The cost to attend is $160 for CMMOTA Members and $210 for Non-CMMOTA Members and once completed\, you will earn 7 CEC’s. \nThe morning lecture session will cover the anatomy of the musculoskeletal system (MSK) of the back\, the anatomy of the spinal cord\, and discuss selected back pathologies such as back pain and a few others.  \nIn the afternoon lab session\, we will explore the anatomy of the back and spinal cord through demonstrations using human cadavers. \nWhat have members said about the Cadaver Labs: \n“The Cadaver Lab was incredible. Hands down my favorite CEU class I’ve taken since joining CMMOTA” \n“I found the lab very interesting and informative.   So happy that I could attend!” \n“Cadaver lab was awesome! Haven’t been since taking the course for school. Awesome refresher course.” \nDid you attend a Cadaver Lab in 2023 and LOVE it? Did you know you can take this lab again and earn CEC’s…. That’s right\, the CMMOTA sees the value in attending a Cadaver Lab and wants to reward you! \nRefund Policy: \n50% refund 30 days prior to the event.\nNo refund 14 days prior to the event. \n 
URL:https://cmmota.com/event/back-and-spinal-anatomy-and-pathology-october-26-2024/
LOCATION:University of Saskatchewan\, 105 Administration Pl\, Saskatoon\, AB\, Canada
CATEGORIES:Health & Wellness
ATTACH;FMTTYPE=image/png:https://cmmota.com/wp-content/uploads/2024/03/Cadaver-Lab.png
ORGANIZER;CN="CMMOTA":MAILTO:info@cmmota.com
END:VEVENT
END:VCALENDAR