BEGIN:VCALENDAR
VERSION:2.0
PRODID:-//CMMOTA.com - ECPv6.14.0//NONSGML v1.0//EN
CALSCALE:GREGORIAN
METHOD:PUBLISH
X-WR-CALNAME:CMMOTA.com
X-ORIGINAL-URL:https://cmmota.com
X-WR-CALDESC:Events for CMMOTA.com
REFRESH-INTERVAL;VALUE=DURATION:PT1H
X-Robots-Tag:noindex
X-PUBLISHED-TTL:PT1H
BEGIN:VTIMEZONE
TZID:America/Edmonton
BEGIN:DAYLIGHT
TZOFFSETFROM:-0700
TZOFFSETTO:-0600
TZNAME:MDT
DTSTART:20240310T090000
END:DAYLIGHT
BEGIN:STANDARD
TZOFFSETFROM:-0600
TZOFFSETTO:-0700
TZNAME:MST
DTSTART:20241103T080000
END:STANDARD
END:VTIMEZONE
BEGIN:VEVENT
DTSTART;VALUE=DATE:20240921
DTEND;VALUE=DATE:20240923
DTSTAMP:20260419T163210
CREATED:20240408T171843Z
LAST-MODIFIED:20240919T192606Z
UID:10000007-1726876800-1727049599@cmmota.com
SUMMARY:Access to the CMMOTA 2024 AB Fall Tradeshow!!
DESCRIPTION:WHEN: September 21-22\, 2024 at The Best Western Premier Calgary Plaza Hotel & Conference Centre – 1316 33 St NE Calgary\, AB \nTradeshow:  \nGet ready for the thrilling CMMOTA Tradeshow happening on September 21st\, 12pm – 8pm\, and September 22nd\, 10am – 6pm\, 2024! It’s your golden chance to rub shoulders with industry peers\, indulge in some fun and grab some awesome giveaways! Make sure you don’t miss our exciting Mocktail hour and live demonstrations from 5:30pm-8pm on Saturday\, September 21st\, 2024. Hurry and RSVP to stand a chance to win the Grand Prize during the evening extravaganza of the trade show! This grants you a complimentary ticket to the tradeshow only. If you are interested in a tradeshow booth\, please see the tradeshow application.  \nOur current list of vendors include: \nBooth 1 – CMMOTA \nBooth 2 – Combined\, A Chubb Company \nBooth 9 – TD Insurance \nBooth 10 – OES Wellness Group Inc \nBooth 16 – Enlightened Oils \nBooth 17 – Physio Supplies Canada \nBooth 18 – Litco Law \nBooth 19- Bioflex Laser Therapy \nBooth 21 – Hand & Stone Massage and Facial Spa/Massage Experts \nBooth 22 – TD Merchant Services \nBooth 23 – Global Cupping \nBooth 24 – Seminars for Health \nBooth 25 – Greenlife Inc \nBooth 26 – Massage Therapy Media \nBooth 27 – Center for Pain and Stress Research \nBooth 28 – Co-Share Wellness Group \nBooth 29 –  OrthoCanada \nBooth 30 – Motion Medicine \nBooth 31 – Manual Osteopathic College of Canada \nBooth 32 – Center for Pain and Stress Research \nBooth 33 – Riman \nBooth 34 – Brokerlink \nBooth 35 – Flo Aromatherapy \nBooth 36 – Massage Addict \nJoin the CMMOTA and your fellow colleagues for an evening of fun and networking on Saturday\, September 21st\, 2024 from 5-8pm for a Mocktail. Thank you to our Mocktail Sponsor\, Motion Medicine for sponsoring 50 Mocktails! We will be having demos taking place during this time. \n5:30-5:50pm – Massage Addict \n6:00-6:20pm – Draws will be made (must be present to win!) \n6:30-6:40pm – Bioflex Laser Therapy \n7:00-7:15pm – Draws will be made (must be present to win!) \n7:30-7:40pm – Manual Osteopathic College of Canada \n8:00pm – End \nIf you would like to become a vendor\, click here to download the registration form. \nFor the floorplan\, please click here. Please note\, this may change slightly. \nThis list will be updated as registrations come in.  \nWe look forward to welcome you to our event!
URL:https://cmmota.com/event/cmmota-2024-ab-fall-education-conference/
LOCATION:The Best Western Premier Calgary Plaza Hotel & Conference Centre\, 1316 33 St NE\, Calgary\, AB\, Canada
CATEGORIES:Health & Wellness
ATTACH;FMTTYPE=image/jpeg:https://cmmota.com/wp-content/uploads/2024/04/Trade-Show-Poster.jpg
ORGANIZER;CN="CMMOTA":MAILTO:info@cmmota.com
END:VEVENT
BEGIN:VEVENT
DTSTART;VALUE=DATE:20240921
DTEND;VALUE=DATE:20240924
DTSTAMP:20260419T163210
CREATED:20240530T153618Z
LAST-MODIFIED:20240912T180730Z
UID:10000010-1726876800-1727135999@cmmota.com
SUMMARY:CMMOTA 2024 Fall Education Conference!
DESCRIPTION:REGISTRATION CLOSES SEPTEMBER 15 at NOON!! \nWHEN: September 21-23\, 2024 at The Best Western Premier Calgary Plaza Hotel & Conference Centre – 1316 33 St NE Calgary\, AB \nAll courses are In Person. \n\nCOURSE OPTIONS: \nManual Therapy to Eliminate Multiple Nerve Compression Patterns of the Upper Body: 8 CEC’s Member Price: $299\, Non-Member Price: $349 Saturday\, September 21\, 2024 Instructed by James Waslaski Time – 9:00am – 6:00pm. Bundle all 3 courses and save even more! \nMore Information \nState of the art anatomy and nerve graphics will allow manual therapists to look inside the human body. Starting with the brain and spinal cord\, therapists will use positional release\, muscle energy techniques\, and soft tissue balancing protocols to address OA & C1-C2 fixations\, cervical kyphosis (military neck)\, spinal stenosis patterns\, stuck facet joints\, and treat sprains and strains throughout the upper body. Nerve tests include: Spurling Test: spinal nerve compression; Eden’s Test: costo-clavicular syndrome; Adson’s Test: scalene and first rib involvement ; Wright Abduction Test: pectoralis minor involvement; Tests to identify Cubital Tunnel and Guyon’s Canal (ulnal tunnel) conditions; Test for Bicipital Aponeurosis tendinosis: median nerve scarring; Pronator Teres Test: median nerve entrapment; and Tests for Carpal Tunnel Syndrome including the Tinnel’s Test\, Phalen’s Test\, and Tethered Median Nerve tests. Complicated shoulder capsular adhesions will also be addressed\, and home care retraining will include spinal decompression\, nerve glides and nerve tensioning protocols. \nPlease note: It is highly recommended to complete this course before the Manual Therapy to Eliminate Multiple Nerve Compression Patterns of the Lower Body. \n\nManual Therapy for the Spinal Nerve: 8 CEC’s Member Price: $299\, Non-Member Price: $349 Saturday\, September 21\, 2024. Presented by Sheryl Hamilton. Time – 8:00am – 5:00pm. Bundle and save on all 3 days! \n\nMore Information \nAs manual therapists\, we often come across clients who are suffering from the symptoms associated with compressed innervation.  Sciatica\, carpal tunnel syndrome\, and thoracic outlet syndrome are a few of the pathologies that we are confronted with almost on a daily basis that involve nerve compression.  It can be tough to determine a safe\, gentle\, and effective treatment approach for these cases that does not exacerbate symptoms.\n\nThis approach\, developed by instructor Sheryl Hamilton after 25 years of professional experience as an RMT and neurology instructor\, will give you the tools you need to provide release for any pathology that includes a component of neural compression.  It is non-invasive\, safe\, and easy to apply and relies on gentle fascial decompression to support affected nerves.  The main nerves of the brachial plexus and sacral plexus will be addressed\, but the treatment approach can be applied to any peripheral nerve.\n\nNeural decompression also supports general health of the extremities which can be useful in the recovery from any musculoskeletal concern. This can become a very powerful\, widely applicable tool in the hands of a well-trained manual therapist.\n\n\nOrthopedic Assessment: 14 CEC’s Member Price: $450\, Non-Member Price: $550. Saturday & Sunday\, September 21 & 22\, 2024 Instructed by Dr. Jesse Reynolds Time – 8:00am – 4:00pm \nMore Information \nJoin us for a comprehensive 2-day workshop designed specifically for massage therapists and manual osteopathic practitioners focused on Orthopedic Assessment. This course will provide an in-depth review of the fundamental principles of orthopedic assessment\, essential for enhancing your skills and improving treatment outcomes. \nIn this intensive 2-day course\, we will delve into the foundational principles of orthopedic assessment\, ensuring you have a strong understanding of the basics. From there\, we will explore how to perform accurate range of motion and special tests\, tailored to identify the most common injuries encountered in a typical massage therapy and manual osteopathic practice. \nYou will gain hands-on experience in assessing all major joints\, including the ankle\, knee\, hips\, low back\, shoulder\, elbow\, wrist\, and neck. Additionally\, we will cover pattern identification for major conditions\, discussing the hallmark symptoms and signs that can help practitioners recognize and address their clients’ needs effectively. \nOur goal is to equip you with the skills and confidence needed to effectively assess and address musculoskeletal issues\, enhancing your ability to provide targeted and effective treatments for your clients. \nWhat You Will Learn: \n– Review of Basic Principles: A refresher on the key concepts of orthopedic assessment\, setting the foundation for more advanced techniques. \n– Range of Motion Testing: Learn how to accurately measure and interpret range of motion for all major joints. \n– Special Tests: Gain proficiency in performing and understanding special tests for common injuries\, enhancing your assessment capabilities. \n– Joint Assessments: Comprehensive assessment protocols for the ankle\, knee\, hips\, low back\, shoulder\, elbow\, wrist\, and neck. \n– Pattern Identification: Understand the hallmark symptoms and signs of major conditions\, aiding in recognizing and addressing clients’ issues effectively. \nWho Should Attend: \nThis course is ideal for massage therapists and manual osteopathic practitioners looking to deepen their knowledge and skills in orthopedic assessment. Whether you’re a recent graduate or a seasoned professional\, this workshop will provide valuable insights and practical techniques to enhance your practice. \n\nFundamentals of Laser Therapy: 7 CEC’s Member Price: $299\, Non-Member Price: $349 Saturday\, September 21\, 2024. Presented by Dr. David Kunashko with Bioflex Laser Therapy. Time – 8:30am – 4:30pm. \nMore Information \nLaser therapy is an evidence based non-invasive treatment that accelerates tissue healing and decreases pain and inflammation. This course focuses on how laser therapy works\, physics of light-tissue interactions\, parameters and effective dosages and peer reviewed research with an emphasis on the musculoskeletal system. Integrating laser therapy into your practice requires an understanding of clinical and practical applications. This course provides an in depth discussion of safety protocols\, clinical conditions that can be effectively treated\, dosage parameters based on tissue depth and pathology\, case studies and practical techniques to ensure effective dosage and integration of laser therapy into a clinical massage or osteopathic practice. Hands on practical applications will also be demonstrated and practiced. \n \nManual Therapy to Eliminate Multiple Nerve Compression Patterns of the Lower Body: 8 CEC’s Member Price: $299\, Non-Member Price: $349 Sunday\, September 22\, 2024 Instructed by James Waslaski Time – 9:00am – 6:00pm. Bundle all 3 courses and save even more! \nMore Information \nState of the art anatomy and nerve graphics will allow manual therapists to look inside the human body. The Weber-Barstow Maneuver\, and Supine to Sits Test will evaluate for functional versus anatomical leg length discrepancies. Pelvic stabilization will use positional release\, muscle energy techniques\, and muscle balancing protocols to address sacral torsion patterns\, iliosacral upslips\, joint capsular patterns\, femoral nerve compression\, and normal muscle firing patterns. Therapists will level the sacral base\, and release the Sacrotuberous ligament for sciatic nerve pain. The Straight Leg Test and Braggard’s Test will identify L5/ SI bulges or herniated discs. The Slump Test will identify hamstring strains or adductor strains that scar down the Sciatic Nerve. Tibial Torsions and Fixated Fibular Head Conditions will be corrected\, by releasing the biceps femoris muscle\, to address the Tibial and Fibular Nerve Entrapments. Manual therapists will also evaluate and release Tarasal Tunnel and Morton’s Neuroma. Home care retraining will include nerve glides and nerve tensioning protocols. \nPlease note: It is highly recommended to complete the Manual Therapy to Eliminate Multiple Nerve Compression Patterns of the Upper Body first. \n\nManual Therapy for Viscera: 16 CEC’s Member Price: $450\, Non-Member Price: $550 Sunday & Monday\, September 22 & 23\, 2024. Presented by Sheryl Hamilton. Time – 8:00am – 5:00pm. Bundle and save on all 3 days! \n\nMore Information \nThis course will review concepts covered in the one-day Viscera training taught by Sheryl Hamilton at previous conferences but will go deeper into those concepts as well as adding specific detail on the ligaments and movement patterns of various viscera.  Practitioners will learn how to determine which organ is in dysfunction\, and whether that organ is contributing additionally to musculoskeletal concerns elsewhere in the body.  In addition\, the venous return and lymphatic return\, as well as the arterial supply and innervation of each organ will be covered.  This course will focus primarily on the organs of digestion\, with a brief look at organs of the pelvis and thorax.  The course will end with a look at the relationship between the neural midline and the visceral midline.\n\n\nAt the end of this course\, manual therapists will have an understanding about how to safely address motility issues of viscera in order to encourage maximal health in organ systems and improve overall body health. \n\n\n\n\nK-Taping Pro: 14.5 CEC’s Member Price: $450\, Non-Member Price: $550. Sunday & Monday\, September 22 & 23\, 2024. Presented by Lois Pohlod with OrthoCanada. Time – 8:00am – 4:30pm. \n\nMore Information \nAbout the K-Taping® PRO course\n\nK-Taping Pro is a two-day (16 hour) course that teaches the basic functions and effects of K-Taping Therapy. It covers applications for muscle\, ligament\, functional\, and fascia corrections\, as well as introducing lymphatic correction techniques. In this course\, you’ll learn to apply combination techniques for a variety of conditions\, from impingement syndrome to plantar fasciitis. Participants will also receive a course manual\, practice tape\, and a certificate upon completion.\n\nIn the K-Taping Pro course students are taught four application techniques\n\n\nMuscle Techniques: Functional disorders in the muscles often cause an imbalance between agonists and antagonists. Muscle taping techniques are used to correct these imbalances. They allow the muscle to return to its normal function and adaptations can be made to the loading capacity and the movement patterns again.\n\nLigament Techniques: The ligament technique is used for injury and overuse of tendons and ligaments. It relieves pressure and pain\, and improves loading capacity\, resulting in quicker healing.\n\nCorrective Techniques: Are divided into functional correction and fascia correction. The functional corrective technique is used for the correction of abnormal bony positions\, such as the correction of an abnormal patella position. Functional correction requires maximal stretching of the tape before application. Fascia correction is used for adhesions within muscle fascia\, resulting in a loosening of fascia and pain reduction.\n\nLymphatic Techniques: The Lymphatic Correction techniques are used when lymphflow is disrupted. These techniques lift the skin. This increases the space between skin and subcutaneous tissue and lymph fluid is able to flow easier out of the interstitial space into the lymphatic circulation.\n\n\nIncome Tax Essentials for Therapists: 2 CEC’s Member Price: $69\, Non-Member Price: $89 Sunday\, September 22\, 2024 Instructed by Jordan Pierson with Online Wellness Institute Time – 6:00pm – 8:00pm. This is an in-person course.  \nMore Information \nThis introductory business and income tax course for RMTs will take a closer look at the following essential topics:\n• What does it mean to incorporate a business? Should you incorporate? Assessment of the pros and cons to incorporation.\n• What is a write off and what does it do?\n• How to avoid being audited/reviewed by the CRA.\n• Why you shouldn’t be worried about moving into a higher tax bracket.\n• How to lower your tax bill. What are you allowed to write off? \n\nKinetic Chain Patterns for Complicated Shoulder Conditions: 8 CEC’s Member Price: $299\, Non-Member Price: $349 Monday\, September 23\, 2024 Instructed by James Waslaski Time – 9:00am – 6:00pm. Bundle all 3 courses and save even more! \n\nMore Information \nThere is clinical evidence that a huge contribution to shoulder pain comes from prior injuries or surgeries (scars) and musculoskeletal imbalances throughout the entire body. Fascial lines of tension can cause the entire body to compensate. Without doing Total Body Balancing Techniques and treating scars that have accumulated over a life time\, the shoulder symptoms usually return. Therapists will evaluate the stirrup spring system in the ankle responsible for “Ascending Syndromes” that work their way up into the knee\, hip\, spine\, shoulder and neck. Therapist will also correct tibial torsion patterns in the knee\, along with iliosacral torsions and resultant ascending roto-scoliosis of the lumbar spine. If uncorrected\, this can lead to ascending kyphosis of the thoracic spine\, and resultant Atlanto-occipital joint compression. After treating scars\, and doing total body balancing\, manual therapists will evaluate and treat shoulder impingent\, bursitis\, bicipital tendinosis\, rotator cuff injuries\, and thoracic outlet. The highlight of this class will be new clinical studies and techniques that will revolutionize the treatment of advanced stage adhesive capsulitis\, known as “Frozen Shoulder.” \n\nIASTM – Lower Body: 7 CEC’s Member Price: $299\, Non-Member Price: $349 Monday\, September 23\, 2024 Instructed by Dr. Nikita Vizniak Time – 8:30am – 4:30pm \nMore Information \nWe discuss IASTM\, application\, soft tissue healing principles\, review of the literature and application in practice for the Lower and Upper Body. \nLearn in a fun\, interactive environment where you can many instruments to make your treatments easier and more effective. Save your hands! \nEvidence-informed content on pain science\, anatomy\, physiology\, tissue-specific assessment\, pain referral patterns\, injury healing\, multidisciplinary person-centered best-practices\, and treatment options. Including manual therapy\, biopsychosocial influences/contextual factors\, language/terminology modification to influence outcomes and case studies. \nStop with cookie-cutter techniques and start critical thinking and application. See how IASTM is an extension of your body that will give you renewed confidence in skills to use in practice. Anatomy\, Assessment\, Action. \nIASTM tools are extra. They will be available for the course\, and you will have the option to purchase after the course. \n \nManual Therapy for Temporomandibular Joint Dysfunction: 7 CEC’s Member Price: $299\, Non-Member Price: $349. Monday\, September 23\, 2024. Presented by Mark Chee-Aloy with the ConEd Institute. Time – 9:00am – 5:00pm. \nMore Information \nKnowledge of Temporomandibular Joint and its applied anatomy is of utmost importance in treating jaw pain and dysfunction. The following course is centred around the concepts involved in external and intraoral treatment of TMJ issues: anatomy and mechanics of the TMJ and associated structures\, palpation of anatomical structures relevant to treatment\, identify common TMJ conditions\, subjective and objective assessment of TMJ and relevant structures\, manual therapy – external and intraoral massage techniques\, joint mobilizations\, remedial exercise and post treatment care. \nGloves will be provided. \n\nThe Best Western Premier Calgary Plaza Hotel & Conference Centre \nWe have secured hotel rooms at the Best Western Premier Calgary Plaza Hotel and Conference Centre. To book a hotel room\, please contact the hotel at: \n1-800-661-1464 \nres@calgaryplaza.com \nYou can use Block ID: 265204 \nRefund Policy: \nFull refund 45 days prior to the event (less fees).\n50% refund 30 days prior to the event.\nNo refund 14 days prior to the event.
URL:https://cmmota.com/event/2024-cmmota-fall-conference/
LOCATION:The Best Western Premier Calgary Plaza Hotel & Conference Centre\, 1316 33 St NE\, Calgary\, AB\, Canada
CATEGORIES:Health & Wellness
ATTACH;FMTTYPE=image/jpeg:https://cmmota.com/wp-content/uploads/2024/05/FALL-conference-poster.jpg
ORGANIZER;CN="CMMOTA":MAILTO:info@cmmota.com
END:VEVENT
END:VCALENDAR