BEGIN:VCALENDAR
VERSION:2.0
PRODID:-//CMMOTA.com - ECPv6.14.0//NONSGML v1.0//EN
CALSCALE:GREGORIAN
METHOD:PUBLISH
X-WR-CALNAME:CMMOTA.com
X-ORIGINAL-URL:https://cmmota.com
X-WR-CALDESC:Events for CMMOTA.com
REFRESH-INTERVAL;VALUE=DURATION:PT1H
X-Robots-Tag:noindex
X-PUBLISHED-TTL:PT1H
BEGIN:VTIMEZONE
TZID:America/Edmonton
BEGIN:DAYLIGHT
TZOFFSETFROM:-0700
TZOFFSETTO:-0600
TZNAME:MDT
DTSTART:20240310T090000
END:DAYLIGHT
BEGIN:STANDARD
TZOFFSETFROM:-0600
TZOFFSETTO:-0700
TZNAME:MST
DTSTART:20241103T080000
END:STANDARD
END:VTIMEZONE
BEGIN:VEVENT
DTSTART;VALUE=DATE:20240629
DTEND;VALUE=DATE:20240701
DTSTAMP:20260419T232925
CREATED:20240409T155818Z
LAST-MODIFIED:20240528T162358Z
UID:10000008-1719619200-1719791999@cmmota.com
SUMMARY:Chapmans Reflexes Intensive
DESCRIPTION:WHEN: June 29 & 30\, 2024 from 9:00 am – 5:00 pm at Holiday Inn & Suites Calgary South Conference Centre – 8360 Blackfoot Trail SE Calgary\, AB. \nEarly Bird pricing is in effect until May 24\, 2024. \nThis course is In Person. CMMOTA Members will earn 14 CEC’s for this course. \nCOURSE OPTION: \nAddressing the bigger picture of why our connective fascial tissue and our autonomic nervous system are linked to movement and function. \nWHAT WILL YOU DO IN THE TWO DAYS?? \nThe Chapmans history\, concepts and links between nervous system/endocrine system/lymphatic system and myofascial lines are discussed. We assess the common restrictions found in the fascial meridians of the body and pivot on our mechanoreceptors\, ruffini fibres\, the neurolymphatic reflexes and our fascia to improve the function of muscle groups that commonly shorten and tighten. \nStep through an easy system of testing\, facilitating each pathway and complete with MFR glides to address the imbalances of myofascial tissue\, joint restrictions and pain pathologies. \nPaula teaches in an engaging and simple way that is easy to follow and easier to integrate into your current practice. This style of treatment uses a gentler approach which is a bonus for the client and means it reduces the physical impact on the therapist. \nLet’s BREAK THE RESTRICTED CYCLE with this course!!!!! \nDiscover the diaphragm and why it makes a difference to EVERYTHING ELSE in the body\, posture links to O2 and this leads to tissue health. \nLearn the #1 treatment technique that every therapist on the planet should be doing. Stretch\, push\, pull\, rub\, glide\, bend\, reach\, roll\, balance\, twist\, laugh\, LEARN. \nPaula's Bio \nPaula Nutting has over 35 years’ experience in health and massage\, specialising in musculoskeletal therapy since 2007. She has written and lectured on various diploma and degree subjects\, as well as coordinated and designed units of study for the vocational and higher education arenas. \nA published expert in her field – including her own book series\, plus article contributions in various esteemed journals and textbooks\, Paula has mastered the art of presenting courses that are easy to absorb in a fun and energetic way. \nHer seminars and workshops target the most common issues therapists see every daily and Paula has helped thousands of therapists uncover chronic and acute conditions of the musculo and myofascial systems. Her keen interest on the neurolymphatic system has created one of the strongest ways to stop repeat pain pathologies. \nPaula has served as a National Director and within the committees of the Massage and Myotherapy Australia (AAMT) since 2006 taking on various roles including Vice President and President. She also owns and operates a successful remedial massage therapy clinic in the north of Brisbane. \n\nHotel Information: \nWe have a special rate with the Holiday Inn. To book your room\, please visit: https://www.holidayinn.com/redirect?path=rates&brandCode=HI&localeCode=en&regionCode=1&hotelCode=YYCDM&checkInDate=28&checkInMonthYear=052024&checkOutDate=01&checkOutMonthYear=062024&_PMID=99801505&GPC=CMO&cn=no&viewfullsite=true. This preferred rate is in effect until May 29\, 2024. \nRefund Policy: \nFull refund 45 days prior to the event (less fees).\n50% refund 30 days prior to the event.\nNo refund 14 days prior to the event.
URL:https://cmmota.com/event/myofascial-release-techniques-and-the-neurolymphatic-reflexes-with-paula-nutting/
LOCATION:Holiday Inn & Suites Calgary South Conference Centre\, 8360 Blackfoot Trail SE\, Calgary\, AB\, Canada
CATEGORIES:Health & Wellness
ATTACH;FMTTYPE=image/jpeg:https://cmmota.com/wp-content/uploads/2024/04/Paula-Nutting-2.jpg
ORGANIZER;CN="CMMOTA":MAILTO:info@cmmota.com
END:VEVENT
END:VCALENDAR