BEGIN:VCALENDAR
VERSION:2.0
PRODID:-//CMMOTA.com - ECPv6.14.0//NONSGML v1.0//EN
CALSCALE:GREGORIAN
METHOD:PUBLISH
X-ORIGINAL-URL:https://cmmota.com
X-WR-CALDESC:Events for CMMOTA.com
REFRESH-INTERVAL;VALUE=DURATION:PT1H
X-Robots-Tag:noindex
X-PUBLISHED-TTL:PT1H
BEGIN:VTIMEZONE
TZID:America/Edmonton
BEGIN:DAYLIGHT
TZOFFSETFROM:-0700
TZOFFSETTO:-0600
TZNAME:MDT
DTSTART:20240310T090000
END:DAYLIGHT
BEGIN:STANDARD
TZOFFSETFROM:-0600
TZOFFSETTO:-0700
TZNAME:MST
DTSTART:20241103T080000
END:STANDARD
END:VTIMEZONE
BEGIN:VEVENT
DTSTART;VALUE=DATE:20240403
DTEND;VALUE=DATE:20240408
DTSTAMP:20260419T232927
CREATED:20240308T204212Z
LAST-MODIFIED:20240308T204516Z
UID:10000005-1712102400-1712534399@cmmota.com
SUMMARY:5 day Intensive Seminar with James Waslaski
DESCRIPTION:5 DAY INTENSIVE SEMINAR WITH EDUCATOR JAMES WASLASKI\nWhen: April 3-7\, 2024 \nWhere: Westerner Park\, Red Deer\, Alberta \nCMMOTA Members – $1375 \nNon-CMMOTA Members – $1625 \nCMMOTA CEC’s – 24 \nTo secure your spot\, please email the CMMOTA office at info@cmmota.com and we will add you to the list. \nCancellation Policy: \nFull refund until January 31\, 2024 \nFrom February 1\, 2024 to March 19\, 2024\, 50% refund on total price of the ticket. \nAfter March 20\, 2024\, no refund is available. \nThis course is limited to 50 attendees and is open to members and non-member so share the news! Last day to register is March 27\, 2024. \nFood\nPricing includes a morning snack and lunch! More information on lunch options will come closer to the event. \nAbout the Course\nFive Day Intensive Seminar \nAdvanced and extensive hands-on training for the entire body\, addressing sports massage\, sports medicine and orthopedic massage. They cover 30% more advanced information than the upper/lower body seminars combined\, including releasing the superficial fascial front line\, posturology\, and the ability to tie the entire body together to sort out complicated pain patterns. You will learn sports injury prevention\, and how to align your work with sports medicine specialists. All conditions listed for the upper and lower body will be covered in more detail\, with more emphasis on structural integration and the ability to see how one area of the body can cause compensation patterns throughout the body. We will look in greater detail at things like upper cross syndrome\, lower cross syndrome\, ascending pain patterns\, descending pain patterns\, biomechanics\, and myoskeletal alignment. CMMOTA Members will earn 24 CEC’s for this course. For more information on course content please click here. \nAbout the Instructor\nJames Waslaski integrates over 30 plus years of expertise in manual therapy to teach over 45 live seminars per year all over the world. He is a published author\, and renowned international lecturer\, teaching Chiropractors\, Athletic Trainers\, Osteopaths\, Physical Therapists\, Physiotherapists\, Physicians\, Certified Personal Trainers and Massage Therapists how to integrate their techniques to increase client outcomes. He is also a Certified Personal Trainer with the National Academy of Sports Medicine. James is an approved NCBTMB Provider. His textbook\, Clinical Massage Therapy: A Structural Approach to Pain Management\, was published by Pearson Publishing in 2011. He presents at state\, national and international Chiropractic\, Osteopathic\, Athletic Training and Massage Therapy Conferences on an annual basis. James received the FSMTA International Achievement Award in 1997. He was inducted into the Massage Therapy Hall of Fame in 2008. He was also nominated and awarded by his peers Teacher of Year at both the Canadian Massage Conference in 2012 and at the World Massage Festival in 2015. \nHotel Accommodation Option\nWe also have hotel rooms available at Holiday Inn on Gasoline Alley. Two Queen beds. Group rate: $154.99 plus tax/per night. Please call 403-348-8485 and let them know you are looking to book under the CMMOTA! Or you can click this link to book online: Canadian Massage and Manual Osteopathic Therapists Association – April 2-8\, 2024 – Holiday Inn & Suites Red Deer.
URL:https://cmmota.com/event/5-day-intensive-seminar-with-james-waslaski/
LOCATION:Westerner Park\, 4847A 19 St\, Red Deer\, AB\, Canada
CATEGORIES:Health & Wellness
ORGANIZER;CN="CMMOTA":MAILTO:info@cmmota.com
END:VEVENT
BEGIN:VEVENT
DTSTART;VALUE=DATE:20240408
DTEND;VALUE=DATE:20240409
DTSTAMP:20260419T232927
CREATED:20240308T203005Z
LAST-MODIFIED:20240322T172529Z
UID:10000004-1712534400-1712620799@cmmota.com
SUMMARY:Cadaver Lab April 8\, 2024
DESCRIPTION:WHEN: April 8\, 2024 9:00 am – 12:00 PM (there are only 12 spots left in this lab!) OR 1:00 PM – 4:00 PM (there are only 5 spots available in this lab!) at the University of Calgary \nWe are hosting two Cadaver Labs on April 8\, 2024\, 9:00 am – 12:00 pm AND 1:00pm – 4:00 PM. All labs will be taking place at the University of Calgary. The cost to attend is $90 and once completed\, you will earn 3 CEC’s. To secure your ticket\, please email the office at info@cmmota.com and let us know which time you’d like. Payment must be made in full to secure your spot. \nWhat have members said about the Cadaver Labs: \n“The Cadaver Lab was incredible. Hands down my favorite CEU class I’ve taken since joining CMMOTA” \n“I found the lab very interesting and informative.   So happy that I could attend!” \n“Cadaver lab was awesome! Haven’t been since taking the course for school. Awesome refresher course.” \nDid you attend a Cadaver Lab in 2023 and LOVE it? Did you know you can take this lab again and earn CEC’s…. That’s right\, the CMMOTA sees the value in attending a Cadaver Lab and wants to reward you! \nPlease note that the Cadaver Labs are available to CMMOTA members ONLY. We are not able to accept non-members at this time.
URL:https://cmmota.com/event/cadaver-lab-april-8-2024/
LOCATION:University of Saskatchewan\, 105 Administration Pl\, Saskatoon\, AB\, Canada
CATEGORIES:Health & Wellness
ATTACH;FMTTYPE=image/png:https://cmmota.com/wp-content/uploads/2024/03/Cadaver-Lab.png
ORGANIZER;CN="CMMOTA":MAILTO:info@cmmota.com
END:VEVENT
BEGIN:VEVENT
DTSTART;VALUE=DATE:20240421
DTEND;VALUE=DATE:20240423
DTSTAMP:20260419T232927
CREATED:20240222T203127Z
LAST-MODIFIED:20240422T165218Z
UID:10000001-1713657600-1713830399@cmmota.com
SUMMARY:CMMOTA 2024 SK Spring Education Conference!!!
DESCRIPTION:WHEN: April 21 & 22\, 2024 at Saskatoon Inn & Conference Centre. 2002 Airport Dr\, Saskatoon\, SK \n* You MUST reside in Canada to attend this in-person conference. \nCOURSE OPTIONS: \n Advanced Assessment & Treatment of the Foot and Ankle: 7 CEC’s Member Price: $325\, Non-Member Price: $425 Sunday\, April 21\, 2024 Instructed by Dr. Jesse Reynolds with AIM Online Education Time – 9:00am – 5:00pm. This will be hosted in person in Saskatoon\, SK. \nMore Information \nActing as the fundamental fulcrum point in bipedal movement\, the foot and ankle play a pivotal role in one & ability to move safely and efficiently. Containing a little more than 25% of all of the bones in the body\, which combine to create 33 joints in each foot\, understanding dysfunctions in this region is inevitably complicated\, and yet imperative for a comprehensive understanding of the body in motion. In this 7 hour workshop\, students will take a deep dive into the foot and ankle. Students will gain a complete understanding of the bones and joints of the foot and ankle\, as well as muscles and connective tissue\, and how these structures combine to create efficient movement. This knowledge will be cemented via a detailed hands- on portion of the workshop which will cover an assessment of complex and chronic ankle and foot dysfunctions\, treatment protocols including myofascial release and joint mobilizations\, and be finalized with comprehensive\nhomecare. \nHaving mastered the techniques taught in Advanced Assessment and Treatment of the Ankle will not only help you with ankle and foot dysfunctions; the skills and principles can be applied to every region of the body. \n\nAthletic Taping: 7 CEC’s Member Price: $325\, Non-Member Price: $425 Sunday\, April 21\, 2024. Presented by Mark Chee-Aloy with the ConEd Institute. Time – 9:00am – 5:00pm. \nMore Information \nThe purpose of this course is to introduce Athletic Taping for common sports injuries to Manual Therapists\, Kinesiologists\, and Personal Trainers. \nAthletic taping is a skill that is under-utilized by most Manual Therapists\, Kinesiologists\, and Personal Trainers\, typically reserved for Field of Play Medical Teams\, such as Certified Athletic Therapists\, Sport Physiotherapists\, and Sport Medicine Doctors. Unless you are a Sports Massage Therapist or have been involved in athletics\, you may not be aware of the benefits of Athletic Taping. \nAthletic taping is performed by applying tape to the body on the skin surface to maintain a stable position of joints and muscles during physical activity. Athletic taping is multifaceted\, being used for several reasons\, injury prevention\, injury management\, and maintaining proper biomechanics during activity. \nThrough a combination of lecture and practical sessions\, this course will explore athletic taping techniques for the purpose of: \n\nStabilizing or restricting the range of motion of an injured joint to allow physical activity with reduced pain\nCompress soft tissue to support the musculotendinous unit\nSupport injured structures via athletic taping / wrapping\n\n​​This is NOT a K-Tape course. 5 Rolls of Athletic Tape will be provided.  \n \nCraniosacral Techniques: 16 CEC’s Member Price: $475\, Non-Member Price: $575. Sunday & Monday\, April 21 & 22\, 2024 Instructed by Sheryl Hamilton Time – 8:00am – 5:00pm \nMore Information \nThis class will bring you beyond cranial rhythm and into mid-tide and long-tide which are the deeper expressions of fluid potency in the cranial system. You will learn to work with meninges\, bones\, ventricles and the central nervous system to re-connect your patients with the deeper tides thereby restoring overall health by directly improving vitality. You will learn to: \n\nPalpate and assess all tissues in the cranium;\nRecognize and work with cranial rhythm\, and mid-tide and long-tide;\nSafely restore normal or improved function to the central nervous system by improving cellular nutrition and fluid flow;\nExtend your career by learning a gentle\, non-invasive approach.\n\nCome and improve the function of your own CNS and learn how to support your patients in enjoying a healthy brain in a healthy body. \n\nManual Therapy for Temporomandibular Joint Dysfunction: 7 CEC’s Member Price: $325\, Non-Member Price: $425. Monday\, April 22\, 2024. Presented by Mark Chee-Aloy with the ConEd Institute. Time – 9:00am – 5:00pm. \nMore Information \nKnowledge of Temporomandibular Joint and its applied anatomy is of utmost importance in treating jaw pain and dysfunction. The following course is centred around the concepts involved in external and intraoral treatment of TMJ issues: anatomy and mechanics of the TMJ and associated structures\, palpation of anatomical structures relevant to treatment\, identify common TMJ conditions\, subjective and objective assessment of TMJ and relevant structures\, manual therapy – external and intraoral massage techniques\, joint mobilizations\, remedial exercise and post treatment care. \nGloves will be provided. \n\nBusiness Basics: 4 CEC’s Member Price: $125\, Non-Member Price: $200. Monday\, April 22\, 2024 Instructed by Dr. Jesse Reynolds with AIM Online Education. Time – 8:00am – 12:00pm. This will be hosted in person in Saskatoon\, SK. \nMore Information \nThis comprehensive course is designed to empower wellness practitioners with the essential knowledge and skills needed to thrive in the business side of the wellness industry. Suitable for practitioners at all stages of business development\, this course provides valuable insights into business structures\, branding\, marketing\, financial management\, client retention\, and much more. From understanding different business structures to crafting an authentic brand identity\, this course guides you step-by-step through fundamental concepts and strategies that drive success in the wellness industry. You will learn practical techniques for effective marketing\, building a strong client base\, managing finances\, and creating a thriving wellness practice. With expert guidance and real-world examples\, this course equips you with the tools and confidence to navigate the business landscape with ease. Join us on this transformative journey and unlock your full potential as a successful wellness entrepreneur. Enroll today and embark on a path to a fulfilling and prosperous wellness business. \n\nBody Psych 101: Foundations: 4 CEC’s Member Price: $125\, Non-Member Price: $200. Monday\, April 22\, 2024 Instructed by Jess Reynolds with AIM Online Education. Time – 1:00pm – 5:00pm. This will be hosted in person in Saskatoon\, SK. \nMore Information \n“Body Psych 101: Foundations” is a comprehensive 4-hour workshop designed for massage therapists and wellness practitioners seeking to deepen their understanding of the interconnectedness of the mind and body. This course provides an in-depth look at how psychological principles can be applied to enhance therapeutic practices. Key topics include the science behind the mind-body connection\, techniques for promoting self-awareness and emotional intelligence\, and effective strategies for stress management. Participants will gain valuable skills to improve client care\, enhance therapeutic outcomes\, and support personal and professional development. The workshop emphasizes evidence-based practices and practical applications\, ensuring participants leave with actionable insights to apply in their work. \n\nBundles Available\nBundle and Save on Athletic Taping and Manual Therapy for Temporomandibular Joint Dysfunction.\nMember Price: $500\, Non-Member Price: $650. \nSave on all Business Basics & the Body Psych 101: Foundations.\nMember Price: $200\, Non-Member Price: $300. \nWe have special rates available at the following hotel: \nSaskatoon Inn & Conference Centre:\nStandard Room Rate: $139 Plus taxes and fees/Per night\, rates are based on availability. Please call 306-242-1440. Please use the block code: 20240421CMOB. \nRefund Policy: \nFull refund 45 days prior to the event (less fees).\n50% refund 30 days prior to the event.\nNo refund 14 days prior to the event.
URL:https://cmmota.com/event/cmmota-2024-sk-spring-education-conference/
LOCATION:Saskatoon Inn & Conference Centre\, 2002 Airport Dr\, Saskatoon\, SK\, Canada
CATEGORIES:Health & Wellness
ATTACH;FMTTYPE=image/png:https://cmmota.com/wp-content/uploads/2024/02/2024-Saskachewan-2-Os-Insta-Post-1.png
ORGANIZER;CN="CMMOTA":MAILTO:info@cmmota.com
END:VEVENT
END:VCALENDAR