BEGIN:VCALENDAR
VERSION:2.0
PRODID:-//CMMOTA.com - ECPv6.14.0//NONSGML v1.0//EN
CALSCALE:GREGORIAN
METHOD:PUBLISH
X-WR-CALNAME:CMMOTA.com
X-ORIGINAL-URL:https://cmmota.com
X-WR-CALDESC:Events for CMMOTA.com
REFRESH-INTERVAL;VALUE=DURATION:PT1H
X-Robots-Tag:noindex
X-PUBLISHED-TTL:PT1H
BEGIN:VTIMEZONE
TZID:America/Edmonton
BEGIN:DAYLIGHT
TZOFFSETFROM:-0700
TZOFFSETTO:-0600
TZNAME:MDT
DTSTART:20240310T090000
END:DAYLIGHT
BEGIN:STANDARD
TZOFFSETFROM:-0600
TZOFFSETTO:-0700
TZNAME:MST
DTSTART:20241103T080000
END:STANDARD
END:VTIMEZONE
BEGIN:VEVENT
DTSTART;VALUE=DATE:20240322
DTEND;VALUE=DATE:20240323
DTSTAMP:20260420T011517
CREATED:20240308T185841Z
LAST-MODIFIED:20240311T203622Z
UID:10000003-1711065600-1711151999@cmmota.com
SUMMARY:Cadaver Lab March 22\, 2024
DESCRIPTION:WHEN: March 22\, 2024 9:00 am – 12:00 PM OR 1:00 PM – 4:00 PM at the University of Calgary \nWe are hosting two Cadaver Labs on March 22\, 2024\, 9:00 am – 12:00 pm AND 1:00pm – 4:00 PM. All labs will be taking place at the University of Calgary. The cost to attend is $90 and once completed\, you will earn 3 CEC’s. To secure your ticket\, please email the office at info@cmmota.com and let us know which time you’d like. Payment must be made in full to secure your spot. \nWhat have members said about the Cadaver Labs: \n“The Cadaver Lab was incredible. Hands down my favorite CEU class I’ve taken since joining CMMOTA” \n“I found the lab very interesting and informative.   So happy that I could attend!” \n“Cadaver lab was awesome! Haven’t been since taking the course for school. Awesome refresher course.” \nDid you attend a Cadaver Lab in 2023 and LOVE it? Did you know you can take this lab again and earn CEC’s…. That’s right\, the CMMOTA sees the value in attending a Cadaver Lab and wants to reward you! \nPlease note that the Cadaver Labs are available to CMMOTA members ONLY. We are not able to accept non-members at this time.
URL:https://cmmota.com/event/cadaver-lab-march-22-2024/
LOCATION:University of Saskatchewan\, 105 Administration Pl\, Saskatoon\, AB\, Canada
CATEGORIES:Health & Wellness
ATTACH;FMTTYPE=image/png:https://cmmota.com/wp-content/uploads/2024/03/Cadaver-Lab.png
ORGANIZER;CN="CMMOTA":MAILTO:info@cmmota.com
END:VEVENT
END:VCALENDAR